BEGIN:VCALENDAR
VERSION:2.0
PRODID:-//hacksw/handcal//NONSGML v1.0//EN
BEGIN:VEVENT
DTSTART:20210225T123000
DTEND:20210225T140000
LOCATION:https://www.ut-capitole.fr/orientation-insertion/preparer-son-insertion/rencontres-professionnelles/les-rendez-vous-pro-metiers-du-droit-381697.kjsp?RH=1319190652268&RF=1319190652268
ORGANIZER;CN=Chiara GIRAUDO:MAILTO:chiara.giraudo@sciencespo-toulouse.fr
SUMMARY:Les RDV pro d'UT1 : Les Métiers du Droit des affaires
DESCRIPTION:\nJeudi 25 février 2021 | 12h30 - 14h : \nMaître Maher ATTYE, Avocat en Droit des Affaires, CABINET ALTEGISMme Evelyne TRULLS-PELLEGRINO, Juriste d’affaires internationales, THALES - EN DISTANCIEL...
URL:https://avenirpro.sciencespo-toulouse.fr/fr/event/les-rdv-pro-d-ut1-les-metiers-du-droit-des-affaires/2021/02/25/131
BEGIN:VALARM
TRIGGER:-P0DT1H0M0S
ACTION:DISPLAY
END:VALARM
END:VEVENT
END:VCALENDAR